BEGIN:VCALENDAR
VERSION:2.0
BEGIN:VEVENT
URL:https://tickets.liveatyourlocal.com.au/outlet/event/fc3d0b24-3b51-4ef7-8de6-52154c0265b8
DTSTART:20260528T080000Z
DTEND:20260528T080000Z
SUMMARY:Camp Hill Drag Bingo
DESCRIPTION:Event details: https://tickets.liveatyourlocal.com.au/outlet/event/fc3d0b24-3b51-4ef7-8de6-52154c0265b8
LOCATION:Camp Hill Hotel (Camp Hill, QLD)
END:VEVENT
END:VCALENDAR