BEGIN:VCALENDAR
VERSION:2.0
BEGIN:VEVENT
URL:https://tickets.liveatyourlocal.com.au/outlet/event/2dbd8e75-aadc-4880-a85a-3f43d94fac9b
DTSTART:20260619T080000Z
DTEND:20260619T080000Z
SUMMARY:15 Years of Home Brew Oz
DESCRIPTION:Event details: https://tickets.liveatyourlocal.com.au/outlet/event/2dbd8e75-aadc-4880-a85a-3f43d94fac9b
LOCATION:The Back Room (Annerley, QLD)
END:VEVENT
END:VCALENDAR